BEGIN:VCALENDAR
VERSION:2.0
PRODID:-//Douro Vinhateiro//Eventos//PT
CALSCALE:GREGORIAN
METHOD:PUBLISH
BEGIN:VEVENT
UID:1188@dourovinhateiro.com
DTSTAMP:20260420T072234
DTSTART:20260515T160000
DTEND:20260517T220000
SUMMARY:Douro Wine Festival — Lamego 2026
DESCRIPTION:The Douro Wine Festival — Lamego 2026 takes place May 15-17 in the historic Largo da Sé de Lamego\, bringing together the best wine producers from the Douro Valley in an event celebrating the excellence of Portuguese wine.Lamego is one of the Douro's most iconic cities\, famous for its 12th-century Romanesque Cathedral\, its unique Lamego sparkling wine\, and the delicious chestnuts and hams from Serra da Nave. The festival uses this historic setting to create a unique sensory experience where Douro...
LOCATION:Lamego
URL:https://dourovinhateiro.com/it/evento/douro-wine-festival-lamego-2026-it
END:VEVENT
END:VCALENDAR