BEGIN:VCALENDAR
VERSION:2.0
PRODID:-//Douro Vinhateiro//Eventos//PT
CALSCALE:GREGORIAN
METHOD:PUBLISH
BEGIN:VEVENT
UID:1186@dourovinhateiro.com
DTSTAMP:20260420T052335
DTSTART:20260425T100000
DTEND:20260426T180000
SUMMARY:Douro Open Wine Estates — Spring 2026
DESCRIPTION:The Douro Open Wine Estates — Spring 2026 invites wine lovers and nature enthusiasts to discover the interiors of the Douro Valley's finest wine properties. On April 25-26\, dozens of quintas along the Douro Valley open their doors for guided tours\, wine tastings and unique gastronomic experiences.This initiative\, promoted by IVDP and CVR Douro\, is a rare opportunity to explore centuries-old cellars\, walk through flowering vineyards\, and meet the producers behind the wines that enchant the world....
LOCATION:Peso da Régua
URL:https://dourovinhateiro.com/it/evento/douro-open-wine-estates-spring-2026-it
END:VEVENT
END:VCALENDAR