BEGIN:VCALENDAR
VERSION:2.0
PRODID:-//Douro Vinhateiro//Eventos//PT
CALSCALE:GREGORIAN
METHOD:PUBLISH
BEGIN:VEVENT
UID:1192@dourovinhateiro.com
DTSTAMP:20260420T052504
DTSTART:20260814T100000
DTEND:20260816T220000
SUMMARY:Miranda do Douro Medieval Fair 2026
DESCRIPTION:The Miranda do Douro Medieval Fair 2026 transports visitors to the Middle Ages for three magical days\, August 14-16. Miranda do Douro\, Portugal's easternmost city on the Spanish border\, is the perfect setting for this historical re-enactment that brings the historic centre to life with medieval characters\, craftsmen\, musicians and staged combats.Miranda do Douro is one of Portugal's most unique cities\, with one of the finest cathedrals in northern Portugal\, an imposing medieval castle\, and the d...
LOCATION:Miranda do Douro
URL:https://dourovinhateiro.com/fr/evento/miranda-do-douro-medieval-fair-2026
END:VEVENT
END:VCALENDAR