BEGIN:VCALENDAR
VERSION:2.0
PRODID:-//Douro Vinhateiro//Eventos//PT
CALSCALE:GREGORIAN
METHOD:PUBLISH
BEGIN:VEVENT
UID:1193@dourovinhateiro.com
DTSTAMP:20260422T112639
DTSTART:20260911T180000
DTEND:20260913T220000
SUMMARY:Lamego Harvest Festival 2026 — Festas das Vindimas
DESCRIPTION:The Lamego Harvest Festival 2026 (Festas das Vindimas) celebrates the most anticipated moment of the Douro wine calendar — the grape harvest — September 11-13. In Lamego\, one of the Douro Valley's most charismatic cities\, ancient harvest traditions come alive with street entertainment\, concerts\, regional gastronomy and the opportunity to actively participate in harvest activities.The Douro harvest typically begins in September and continues into October\, varying by grape variety and annual clima...
LOCATION:Lamego
URL:https://dourovinhateiro.com/fr/evento/lamego-harvest-festival-2026-fr
END:VEVENT
END:VCALENDAR