BEGIN:VCALENDAR
VERSION:2.0
PRODID:-//Douro Vinhateiro//Eventos//PT
CALSCALE:GREGORIAN
METHOD:PUBLISH
BEGIN:VEVENT
UID:284@dourovinhateiro.com
DTSTAMP:20260425T225259
DTSTART:20260227T000000
DTEND:20260301T000000
SUMMARY:Simplesmente Vinho 2026 at Alfandega do Porto
DESCRIPTION:Simplesmente… Vinho is an independent wine fair at the Alfândega do Porto from 27 February to 1 March 2026\, gathering around 100 independent producers from Portugal\, Spain and guest regions. Free tastings\, live music\, food pairings and a curated art show celebrate natural and minimal-intervention wine.\n\n\n  Dates: 27 February – 1 March 2026\n  Venue: Alfândega do Porto\n  Hours: Fri–Sat 15:00–20:00 · Sun 11:00–16:00\n  Tickets: 20 – 27.50 € (daily)\; 3-day pass 58 €\n
LOCATION:Porto
URL:https://dourovinhateiro.com/es/evento/simplesmente-vinho-2026-en
END:VEVENT
END:VCALENDAR