BEGIN:VCALENDAR
VERSION:2.0
PRODID:-//Douro Vinhateiro//Eventos//PT
CALSCALE:GREGORIAN
METHOD:PUBLISH
BEGIN:VEVENT
UID:1195@dourovinhateiro.com
DTSTAMP:20260420T072051
DTSTART:20260523T190000
DTEND:20260523T230000
SUMMARY:Port Wine Night — Casa do Douro 2026
DESCRIPTION:The Port Wine Night — Casa do Douro 2026 is an exclusive event for Port wine enthusiasts\, taking place at the emblematic Casa do Douro building in Peso da Régua on May 23. In a historic setting that has witnessed centuries of wine history\, participants will taste some of the rarest and most valuable Port wine vintages\, guided by specialist oenologists.Casa do Douro\, founded in 1932\, is one of the Douro wine region's most important institutions. Its building\, with the famous azulejo tile panels b...
LOCATION:Peso da Régua
URL:https://dourovinhateiro.com/es/evento/port-wine-night-casa-do-douro-2026
END:VEVENT
END:VCALENDAR