BEGIN:VCALENDAR
VERSION:2.0
PRODID:-//Douro Vinhateiro//Eventos//PT
CALSCALE:GREGORIAN
METHOD:PUBLISH
BEGIN:VEVENT
UID:1183@dourovinhateiro.com
DTSTAMP:20260420T072259
DTSTART:20260604T170000
DTEND:20260606T235900
SUMMARY:NOS Primavera Sound Porto 2026
DESCRIPTION:NOS Primavera Sound Porto 2026 returns to the Parque da Cidade in Porto from 4 to 6 June\, cementing its status as one of the biggest open-air music festivals in the Iberian Peninsula.Practical InformationDates: June 4-6\, 2026Venue: Parque da Cidade do PortoTickets: From €75
LOCATION:Porto
URL:https://dourovinhateiro.com/es/evento/nos-primavera-sound-porto-2026-en
END:VEVENT
END:VCALENDAR