BEGIN:VCALENDAR
VERSION:2.0
PRODID:-//Douro Vinhateiro//Eventos//PT
CALSCALE:GREGORIAN
METHOD:PUBLISH
BEGIN:VEVENT
UID:1190@dourovinhateiro.com
DTSTAMP:20260420T072024
DTSTART:20260717T210000
DTEND:20260719T235900
SUMMARY:Jazz in the Douro — Summer Nights at Quinta do Crasto 2026
DESCRIPTION:Jazz Nights in the Douro 2026 return to the iconic Quinta do Crasto in Sabrosa\, July 17-19\, for three magical evenings of outdoor music with the Douro Valley as backdrop. Quinta do Crasto\, one of the Douro Superior's most respected wine estates\, opens its gates for a jazz festival combining musical excellence with the region's finest wines.Each night features a different artist or ensemble\, with programming spanning traditional jazz\, contemporary jazz and world music fusions. Concerts take place...
LOCATION:Sabrosa
URL:https://dourovinhateiro.com/es/evento/jazz-in-the-douro-summer-2026
END:VEVENT
END:VCALENDAR