BEGIN:VCALENDAR
VERSION:2.0
PRODID:-//Douro Vinhateiro//Eventos//PT
CALSCALE:GREGORIAN
METHOD:PUBLISH
BEGIN:VEVENT
UID:1196@dourovinhateiro.com
DTSTAMP:20260420T072058
DTSTART:20260422T090000
DTEND:20260424T180000
SUMMARY:Douro and Port Wine Competition 2026
DESCRIPTION:The Douro and Port Wine Competition 2026\, organised by IVDP (Instituto dos Vinhos do Douro e Porto)\, takes place in Régua April 22-24 and is the region's largest and most prestigious wine competition. Hundreds of Douro wines and Port wines from across the region are evaluated by an international jury panel\, in a rigorous process culminating in the award of Gold Medals\, Silver Medals\, and Grand Gold Medals.IVDP is the body that oversees production\, quality control and promotion of Douro wines and...
LOCATION:Peso da Régua
URL:https://dourovinhateiro.com/es/evento/douro-port-wine-competition-2026-es
END:VEVENT
END:VCALENDAR