BEGIN:VCALENDAR
VERSION:2.0
PRODID:-//Douro Vinhateiro//Eventos//PT
CALSCALE:GREGORIAN
METHOD:PUBLISH
BEGIN:VEVENT
UID:1184@dourovinhateiro.com
DTSTAMP:20260420T034117
DTSTART:20260623T200000
DTEND:20260624T060000
SUMMARY:São João Festival Porto 2026
DESCRIPTION:The São João Festival Porto 2026 transforms the city into the most vibrant night of the year\, on the night from June 23 to 24. Considered the biggest popular festival in northern Portugal and one of the most emblematic in the Iberian Peninsula\, São João night fills Porto's streets and bridges with music\, joy and basil plants.Tradition calls for Porto residents to take to the streets armed with leeks or plastic hammers to tap each other on the head\, while fireworks and rockets light up the sky ab...
LOCATION:Porto
URL:https://dourovinhateiro.com/en/evento/sao-joao-festival-porto-2026
END:VEVENT
END:VCALENDAR