BEGIN:VCALENDAR
VERSION:2.0
PRODID:-//Douro Vinhateiro//Eventos//PT
CALSCALE:GREGORIAN
METHOD:PUBLISH
BEGIN:VEVENT
UID:1189@dourovinhateiro.com
DTSTAMP:20260420T033808
DTSTART:20260530T100000
DTEND:20260531T220000
SUMMARY:Resende Cherry Festival 2026
DESCRIPTION:The Resende Cherry Festival 2026 celebrates the finest fruit from Serra do Montemuro on May 30-31\, in a popular celebration combining gastronomy\, tradition and the natural beauty of the slopes overlooking the Douro Valley.Resende is famous for its exceptional cherries\, grown in mountain villages at an altitude that favours slow ripening and intense flavour development. The municipality produces thousands of tonnes of cherries annually\, supplying markets across Portugal and Europe.During the two...
LOCATION:Resende
URL:https://dourovinhateiro.com/en/evento/resende-cherry-festival-2026
END:VEVENT
END:VCALENDAR