BEGIN:VCALENDAR
VERSION:2.0
PRODID:-//Douro Vinhateiro//Eventos//PT
CALSCALE:GREGORIAN
METHOD:PUBLISH
BEGIN:VEVENT
UID:1197@dourovinhateiro.com
DTSTAMP:20260420T053014
DTSTART:20260613T100000
DTEND:20260614T220000
SUMMARY:Pinhão Hand to Hand 2026 — Wine Tourism & Culture
DESCRIPTION:Pinhão Hand to Hand 2026 is a wine tourism and culture festival taking place in the heart of the Alto Douro Vinhateiro on June 13-14. Pinhão\, one of the Douro's most picturesque and visited villages\, becomes the epicentre of a weekend dedicated to wine\, art and regional gastronomy.The festival proposes a route through different points in the village and surrounding quintas\, where local artists exhibit their work\, wine producers open their cellars\, and local restaurants offer special menus with t...
LOCATION:Alijó
URL:https://dourovinhateiro.com/en/evento/pinhao-hand-to-hand-2026
END:VEVENT
END:VCALENDAR