BEGIN:VCALENDAR
VERSION:2.0
PRODID:-//Douro Vinhateiro//Eventos//PT
CALSCALE:GREGORIAN
METHOD:PUBLISH
BEGIN:VEVENT
UID:294@dourovinhateiro.com
DTSTAMP:20260425T230136
DTSTART:20260228T000000
DTEND:20260301T000000
SUMMARY:Gondomar Pet Festival 2026 Porto
DESCRIPTION:The Gondomar Pet Festival brings together over 800 dogs\, 150 cats and 140 birds at the Multiusos de Gondomar on 28 February and 1 March 2026. The event combines a National Dog Beauty Championship\, an International Cat Show\, a National Bird Exhibition and a dedicated adoption space promoted by the local animal shelter.\n\n\n  Dates: 28 February (Sat) and 1 March (Sun) 2026\n  Hours: Sat 09:30–19:00 · Sun 10:00–19:00\n  Venue: Multiusos de Gondomar\, Greater Porto\n  Tickets: available at tickets.fil.pt\n
LOCATION:Gondomar
URL:https://dourovinhateiro.com/en/evento/gondomar-pet-festival-2026-porto
END:VEVENT
END:VCALENDAR