BEGIN:VCALENDAR
VERSION:2.0
PRODID:-//Douro Vinhateiro//Eventos//PT
CALSCALE:GREGORIAN
METHOD:PUBLISH
BEGIN:VEVENT
UID:285@dourovinhateiro.com
DTSTAMP:20260425T212410
DTSTART:20260227T000000
DTEND:20260308T000000
SUMMARY:Fantasporto 2026 Porto International Film Festival
DESCRIPTION:The 46th edition of Fantasporto\, the Porto International Film Festival\, runs from 27 February to 8 March 2026 at Batalha Centro de Cinema. One of the world's best fantasy film festivals\, it showcases fantastic cinema\, Portuguese films\, independent and experimental screenings\, and international retrospectives.\n\n\n  Dates: 27 February – 8 March 2026\n  Venue: Batalha Centro de Cinema\, Praça da Batalha\, Porto\n  Tickets: Tripass (all screenings) or individual session tickets\n  Programme: fantasporto.c...
LOCATION:Porto
URL:https://dourovinhateiro.com/en/evento/fantasporto-2026-en
END:VEVENT
END:VCALENDAR