BEGIN:VCALENDAR
VERSION:2.0
PRODID:-//Douro Vinhateiro//Eventos//PT
CALSCALE:GREGORIAN
METHOD:PUBLISH
BEGIN:VEVENT
UID:1187@dourovinhateiro.com
DTSTAMP:20260420T071833
DTSTART:20260509T080000
DTEND:20260510T180000
SUMMARY:Douro Vineyard Marathon 2026 — Pinhão
DESCRIPTION:The Douro Vineyard Marathon 2026 takes place in Pinhão on May 9-10\, offering a unique sporting experience amid one of the world's most beautiful landscapes. Participants run through the famous terraced vineyards of the Douro Valley\, a UNESCO World Heritage Site\, with the Douro River always in sight.The event offers routes adapted to all levels: a 10 km run for beginners\, a 21 km half marathon\, and a full 42 km marathon for the most experienced runners. Aid stations along the route feature\, of co...
LOCATION:Alijó
URL:https://dourovinhateiro.com/en/evento/douro-vineyard-marathon-2026-de
END:VEVENT
END:VCALENDAR