BEGIN:VCALENDAR
VERSION:2.0
PRODID:-//Douro Vinhateiro//Eventos//PT
CALSCALE:GREGORIAN
METHOD:PUBLISH
BEGIN:VEVENT
UID:1185@dourovinhateiro.com
DTSTAMP:20260420T053018
DTSTART:20260709T180000
DTEND:20260712T020000
SUMMARY:Douro Alive Festival 2026 — Peso da Régua
DESCRIPTION:Douro Alive 2026 returns to Peso da Régua from 9 to 12 July\, offering four days of live music against the breathtaking backdrop of the Douro Valley. One of Portugal's most unique festivals\, Douro Alive combines music\, gastronomy and the singular charm of the world's oldest wine region.The festival grounds\, located in the riverside Parque de Merendas next to the Douro River\, offer panoramic views over the terraced vineyards and rolling hills. The spectacle isn't limited to the stage — the surroun...
LOCATION:Peso da Régua
URL:https://dourovinhateiro.com/en/evento/douro-alive-festival-2026-en
END:VEVENT
END:VCALENDAR