BEGIN:VCALENDAR
VERSION:2.0
PRODID:-//Douro Vinhateiro//Eventos//PT
CALSCALE:GREGORIAN
METHOD:PUBLISH
BEGIN:VEVENT
UID:289@dourovinhateiro.com
DTSTAMP:20260425T230148
DTSTART:20260214T000000
DTEND:20260308T000000
SUMMARY:Almond Blossom Festival 2026 Vila Nova de Foz Coa
DESCRIPTION:The Almond Blossom Festival in Vila Nova de Foz Côa runs from 14 February to 8 March 2026\, celebrating flowering almond trees in a UNESCO World Heritage territory famous for its open-air Palaeolithic rock art. The programme includes an ethnographic parade\, trail running\, folk music\, ceramics workshops and local gastronomy.\n\n\n  Entry: free\n  Dates: 14 February – 8 March 2026\n  Main venue: Expocoa\, Vila Nova de Foz Côa\n  Highlight: Foz Côa Douro Trail Adventure (20–22 February)\n
LOCATION:Vila Nova de Foz Coa
URL:https://dourovinhateiro.com/en/evento/almond-blossom-festival-2026-vila-nova-de-foz-coa
END:VEVENT
END:VCALENDAR