BEGIN:VCALENDAR
VERSION:2.0
PRODID:-//Douro Vinhateiro//Eventos//PT
CALSCALE:GREGORIAN
METHOD:PUBLISH
BEGIN:VEVENT
UID:283@dourovinhateiro.com
DTSTAMP:20260425T225459
DTSTART:20260226T000000
DTEND:20260301T000000
SUMMARY:Essencia do Vinho Porto 2026 at Palacio da Bolsa
DESCRIPTION:Essência do Vinho returns to the iconic Palácio da Bolsa in Porto from 26 February to 1 March 2026\, bringing together over 4\,000 wines from around 400 Portuguese producers. One of the world's premier wine tasting events\, it features 20 masterclasses led by international experts and the prestigious TOP 10 Portuguese Wines competition judged blind by 45 specialists.\n\n\n  Dates: 26 February – 1 March 2026\n  Venue: Palácio da Bolsa\, Porto\n  Hours: Thu–Sat 15:00–21:00 · Sun 15:00–19:00\n  Tickets: from...
LOCATION:Porto
URL:https://dourovinhateiro.com/de/evento/essencia-do-vinho-porto-2026-en
END:VEVENT
END:VCALENDAR